BEGIN:VCALENDAR
VERSION:2.0
PRODID:-//Masterworks Choir OCNJ - ECPv6.15.12//NONSGML v1.0//EN
CALSCALE:GREGORIAN
METHOD:PUBLISH
X-WR-CALNAME:Masterworks Choir OCNJ
X-ORIGINAL-URL:https://masterworkschoirocnj.org
X-WR-CALDESC:Events for Masterworks Choir OCNJ
REFRESH-INTERVAL;VALUE=DURATION:PT1H
X-Robots-Tag:noindex
X-PUBLISHED-TTL:PT1H
BEGIN:VTIMEZONE
TZID:America/New_York
BEGIN:DAYLIGHT
TZOFFSETFROM:-0500
TZOFFSETTO:-0400
TZNAME:EDT
DTSTART:20240310T070000
END:DAYLIGHT
BEGIN:STANDARD
TZOFFSETFROM:-0400
TZOFFSETTO:-0500
TZNAME:EST
DTSTART:20241103T060000
END:STANDARD
BEGIN:DAYLIGHT
TZOFFSETFROM:-0500
TZOFFSETTO:-0400
TZNAME:EDT
DTSTART:20250309T070000
END:DAYLIGHT
BEGIN:STANDARD
TZOFFSETFROM:-0400
TZOFFSETTO:-0500
TZNAME:EST
DTSTART:20251102T060000
END:STANDARD
BEGIN:DAYLIGHT
TZOFFSETFROM:-0500
TZOFFSETTO:-0400
TZNAME:EDT
DTSTART:20260308T070000
END:DAYLIGHT
BEGIN:STANDARD
TZOFFSETFROM:-0400
TZOFFSETTO:-0500
TZNAME:EST
DTSTART:20261101T060000
END:STANDARD
END:VTIMEZONE
BEGIN:VTIMEZONE
TZID:UTC
BEGIN:STANDARD
TZOFFSETFROM:+0000
TZOFFSETTO:+0000
TZNAME:UTC
DTSTART:20220101T000000
END:STANDARD
END:VTIMEZONE
BEGIN:VEVENT
DTSTART;TZID=America/New_York:20251123T160000
DTEND;TZID=America/New_York:20251123T170000
DTSTAMP:20260423T200914
CREATED:20251010T223708Z
LAST-MODIFIED:20251102T162842Z
UID:2371-1763913600-1763917200@masterworkschoirocnj.org
SUMMARY:'Missa Regensis' by Ugis Praulins
DESCRIPTION:
URL:https://masterworkschoirocnj.org/event/missa-regensis-by-ugis-praulins
LOCATION:St. Peter’s United Methodist Church\, 501 E 8th St\,\, Ccean City\, 08226\, United States
ATTACH;FMTTYPE=image/png:https://masterworkschoirocnj.org/wp-content/uploads/2025/10/11.23.25-Concert-Poster.png
END:VEVENT
BEGIN:VEVENT
DTSTART;TZID=UTC:20241124T160000
DTEND;TZID=UTC:20241124T180000
DTSTAMP:20260423T200914
CREATED:20241103T024115Z
LAST-MODIFIED:20241103T024456Z
UID:2287-1732464000-1732471200@masterworkschoirocnj.org
SUMMARY:JUBILATE DEO
DESCRIPTION:Join us on Sunday\, November 24\, 2024\, at 4:00 PM at St. Peter’s United Methodist Church in Ocean City\, New Jersey. Enjoy a captivating performance featuring Ellen Junggren (Alto)\, Erik Wagner (Tenor)\, Ashley Arsenault (Soprano)\, Robert Snodgrass (Bass)\, the Hammonton Middle School Chorus\, Scott Breiner (Organist)\, and conducted by John Bate. Admission is free\, and a freewill offering will be accepted. Accessible parking is available. For more information\, please call (609) 399-2988 ext.104. \nJUBILATE DEO by Dan Forrest brings to life the global aspect of the traditional Psalm 100 text\, “0 be joyful in the Lord\, all ye lands\,” by setting it in seven different languages and drawing from a wide spectrum of musical influences. Each movement combines some characteristics of its language-group’s musical culture with the composer’s own musical language. Movements include liturgical Latin\, intertwined Hebrew and Arabic\, Mandarin Chinese\, Zulu\, Spanish\, Song of the Earth (untexted)\, and a closing movement combining several of i\nthese languages with Engl sh. The result is a stunning global celebration of joy\, as all the earth sings as one\, “omnis terra\, jubilate!” The Masterworks Choir will be joined by the Hammonton Middle School Chorus under the direction of Ashley Arsenault\, accompanied by a small orchestra and pipe organ.
URL:https://masterworkschoirocnj.org/event/jubilate-deo
LOCATION:St. Peter’s United Methodist Church\, 501 E 8th St\,\, Ccean City\, 08226\, United States
ATTACH;FMTTYPE=image/png:https://masterworkschoirocnj.org/wp-content/uploads/2024/11/MW-fall-poster-1.png
END:VEVENT
BEGIN:VEVENT
DTSTART;TZID=UTC:20240807T193000
DTEND;TZID=UTC:20240807T203000
DTSTAMP:20260423T200914
CREATED:20240426T184918Z
LAST-MODIFIED:20240426T184918Z
UID:2197-1723059000-1723062600@masterworkschoirocnj.org
SUMMARY:Concert - Leonard Bernstein's Chichester Psalms
DESCRIPTION:
URL:https://masterworkschoirocnj.org/event/concert-leonard-bernsteins-chichester-psalms
LOCATION:St. Peter’s United Methodist Church\, 501 E 8th St\,\, Ccean City\, 08226\, United States
END:VEVENT
BEGIN:VEVENT
DTSTART;TZID=UTC:20240612T183000
DTEND;TZID=UTC:20240612T193000
DTSTAMP:20260423T200914
CREATED:20240426T183655Z
LAST-MODIFIED:20240426T193351Z
UID:2192-1718217000-1718220600@masterworkschoirocnj.org
SUMMARY:Come Sing with Us!
DESCRIPTION:Rehersals start Wednesday\, June 12th\, 2024 at 6:30.
URL:https://masterworkschoirocnj.org/event/come-sing-with-us
LOCATION:St. Peter’s United Methodist Church\, 501 E 8th St\,\, Ccean City\, 08226\, United States
ATTACH;FMTTYPE=image/jpeg:https://masterworkschoirocnj.org/wp-content/uploads/2024/04/2024SummerRehersal.jpeg
END:VEVENT
BEGIN:VEVENT
DTSTART;TZID=UTC:20231119T160000
DTEND;TZID=UTC:20231119T173000
DTSTAMP:20260423T200914
CREATED:20230921T180247Z
LAST-MODIFIED:20230923T002317Z
UID:1975-1700409600-1700415000@masterworkschoirocnj.org
SUMMARY:November 19
DESCRIPTION:November 19th at 4 pm at St. Peter’s Church Bach’s “Magnificat” and a new work “Gloria” by Randol Alan Bass. \nSoloists are \n\nAshley Gereaghty\, Soprano\nBeth Nardone\, Soprano\nGwen Wilkie\, Alto\nErik Wagner\, Tenor\nRobert Snodgrass\, Baritone\n\n  \n*Rehearsals begin Friday\, September 28 at 7:15 at St. Peter’s Church.
URL:https://masterworkschoirocnj.org/event/1975
LOCATION:St. Peter’s United Methodist Church\, 501 E 8th St\,\, Ccean City\, 08226\, United States
END:VEVENT
BEGIN:VEVENT
DTSTART;TZID=UTC:20230809T193000
DTEND;TZID=UTC:20230809T193000
DTSTAMP:20260423T200914
CREATED:20230301T185629Z
LAST-MODIFIED:20230804T154716Z
UID:1167-1691609400-1691609400@masterworkschoirocnj.org
SUMMARY:August 9th
DESCRIPTION:The Masterworks Choir Presents: \nBeethoven’s Mass in C and a collection of our favorite folk solgs. \nA special bell choir performance of Timothy H. Waugh’s Ronda Boricano. \nSoloists: \nAshley Gereaghty\, soprano soloist\nGwen Wilkie\, alto soloist\nErik Wagner\, tenor soloist\nAndrew Arsenault\, bass soloist \nScott Breiner\, Organist\nJohn Bate\, Musical Director and Conductor \nWednesday August 9th at 7:30pm\nSt. Peter’s Untied methodist Church\n📍 501 E 8th St\, Ocean City\, NJ 08226 \nA freewill offering will be recieved \nHandicapped parking and accessible enterence available from the rear parking lot. \nFor further info please call (609) 399-2988 \n  \n  \n 
URL:https://masterworkschoirocnj.org/event/august-9-2023
LOCATION:St. Peter’s United Methodist Church\, 501 E 8th St\,\, Ccean City\, 08226\, United States
ATTACH;FMTTYPE=image/jpeg:https://masterworkschoirocnj.org/wp-content/uploads/2023/07/8.9.23-Concert-Poster.jpg
END:VEVENT
END:VCALENDAR